BEGIN:VCALENDAR
VERSION:2.0
PRODID:-//St Margaret's Church Olton - ECPv4.0.5//NONSGML v1.0//EN
CALSCALE:GREGORIAN
METHOD:PUBLISH
X-WR-CALNAME:St Margaret's Church Olton
X-ORIGINAL-URL:http://stmargarets.info
X-WR-CALDESC:Events for St Margaret's Church Olton
BEGIN:VEVENT
DTSTART;TZID="UTC+0":20170430T080000
DTEND;TZID="UTC+0":20170430T090000
DTSTAMP:20260422T150004
CREATED:20170316T233547
LAST-MODIFIED:20170316T233547
UID:5556-1493539200-1493542800@stmargarets.info
SUMMARY:3rd Sunday of Easter - Holy Communion - 8:00am
DESCRIPTION:3rd Sunday of Easter - Holy Communion - 8:00am
URL:http://stmargarets.info/event/3rd-sunday-of-easter-holy-communion-800am/
LOCATION:Parish Church of St Margaret\, St Margaret’s Road\, Olton\, West Midlands\, B927JS\, United Kingdom
END:VEVENT
END:VCALENDAR