BEGIN:VCALENDAR
VERSION:2.0
PRODID:-//St Margaret's Church Olton - ECPv4.0.5//NONSGML v1.0//EN
CALSCALE:GREGORIAN
METHOD:PUBLISH
X-WR-CALNAME:St Margaret's Church Olton
X-ORIGINAL-URL:http://stmargarets.info
X-WR-CALDESC:Events for St Margaret's Church Olton
BEGIN:VEVENT
DTSTART;TZID="UTC+0":20170528T080000
DTEND;TZID="UTC+0":20170528T090000
DTSTAMP:20260422T135726
CREATED:20170412T000718
LAST-MODIFIED:20170412T000718
UID:5624-1495958400-1495962000@stmargarets.info
SUMMARY:7th Sunday of Easter – Holy Communion – 8:00am
DESCRIPTION:7th Sunday of Easter – Holy Communion – 8:00am
URL:http://stmargarets.info/event/7th-sunday-of-easter-holy-communion-800am/
LOCATION:Parish Church of St Margaret\, St Margaret’s Road\, Olton\, West Midlands\, B927JS\, United Kingdom
END:VEVENT
END:VCALENDAR