BEGIN:VCALENDAR
VERSION:2.0
PRODID:-//St Margaret's Church Olton - ECPv4.0.5//NONSGML v1.0//EN
CALSCALE:GREGORIAN
METHOD:PUBLISH
X-WR-CALNAME:St Margaret's Church Olton
X-ORIGINAL-URL:http://stmargarets.info
X-WR-CALDESC:Events for St Margaret's Church Olton
BEGIN:VEVENT
DTSTART;TZID="UTC+0":20160421T193000
DTEND;TZID="UTC+0":20160421T213000
DTSTAMP:20260420T014259
CREATED:20160122T014320
LAST-MODIFIED:20160128T011706
UID:4637-1461267000-1461274200@stmargarets.info
SUMMARY:April Parochial Church Council (PCC) Meeting
DESCRIPTION:April Parochial Church Council (PCC) Meeting
URL:http://stmargarets.info/event/april-parochial-church-council-pcc-meeting/
CATEGORIES:Church Meeting
END:VEVENT
END:VCALENDAR