BEGIN:VCALENDAR
VERSION:2.0
PRODID:-//St Margaret's Church Olton - ECPv4.0.5//NONSGML v1.0//EN
CALSCALE:GREGORIAN
METHOD:PUBLISH
X-WR-CALNAME:St Margaret's Church Olton
X-ORIGINAL-URL:http://stmargarets.info
X-WR-CALDESC:Events for St Margaret's Church Olton
BEGIN:VEVENT
DTSTART;VALUE=DATE:20160505
DTEND;VALUE=DATE:20160505
DTSTAMP:20260420T212917
CREATED:20160404
LAST-MODIFIED:20160404
UID:4916-1462406400-1462492799@stmargarets.info
SUMMARY:Ascension Day
DESCRIPTION:Ascension Day
URL:http://stmargarets.info/event/ascension-day/
END:VEVENT
END:VCALENDAR