BEGIN:VCALENDAR
VERSION:2.0
PRODID:-//St Margaret's Church Olton - ECPv4.0.5//NONSGML v1.0//EN
CALSCALE:GREGORIAN
METHOD:PUBLISH
X-WR-CALNAME:St Margaret's Church Olton
X-ORIGINAL-URL:http://stmargarets.info
X-WR-CALDESC:Events for St Margaret's Church Olton
BEGIN:VEVENT
DTSTART;TZID="UTC+0":20160416T100000
DTEND;TZID="UTC+0":20160416T120000
DTSTAMP:20260422T165132
CREATED:20160413T222511
LAST-MODIFIED:20160413T222511
UID:4970-1460800800-1460808000@stmargarets.info
SUMMARY:Churchyard Gardening
DESCRIPTION:Churchyard Gardening\nThere is a gardening working party from 10am -12pm.
URL:http://stmargarets.info/event/churchyard-gardening/
LOCATION:Parish Church of St Margaret\, St Margaret’s Road\, Olton\, West Midlands\, B927JS\, United Kingdom
CATEGORIES:Church Event
END:VEVENT
END:VCALENDAR