BEGIN:VCALENDAR
VERSION:2.0
PRODID:-//St Margaret's Church Olton - ECPv4.0.5//NONSGML v1.0//EN
CALSCALE:GREGORIAN
METHOD:PUBLISH
X-WR-CALNAME:St Margaret's Church Olton
X-ORIGINAL-URL:http://stmargarets.info
X-WR-CALDESC:Events for St Margaret's Church Olton
BEGIN:VEVENT
DTSTART;VALUE=DATE:20160404
DTEND;VALUE=DATE:20160404
DTSTAMP:20260423T020825
CREATED:20160308
LAST-MODIFIED:20160308
UID:4859-1459728000-1459814399@stmargarets.info
SUMMARY:Easter Holiday - *No Little Steps*
DESCRIPTION:Easter Holiday - *No Little Steps*
URL:http://stmargarets.info/event/easter-holidays-no-little-steps/
END:VEVENT
END:VCALENDAR