BEGIN:VCALENDAR
VERSION:2.0
PRODID:-//St Margaret's Church Olton - ECPv4.0.5//NONSGML v1.0//EN
CALSCALE:GREGORIAN
METHOD:PUBLISH
X-WR-CALNAME:St Margaret's Church Olton
X-ORIGINAL-URL:http://stmargarets.info
X-WR-CALDESC:Events for St Margaret's Church Olton
BEGIN:VEVENT
DTSTART;TZID="UTC+0":20160508T183000
DTEND;TZID="UTC+0":20160508T191500
DTSTAMP:20260420T135004
CREATED:20160404T212125
LAST-MODIFIED:20160404T212125
UID:4925-1462732200-1462734900@stmargarets.info
SUMMARY:Evensong 6:30 pm
DESCRIPTION:Evensong 6:30 pm
URL:http://stmargarets.info/event/evensong-630-pm-10/
LOCATION:Parish Church of St Margaret\, St Margaret’s Road\, Olton\, West Midlands\, B927JS\, United Kingdom
END:VEVENT
END:VCALENDAR