BEGIN:VCALENDAR
VERSION:2.0
PRODID:-//St Margaret's Church Olton - ECPv4.0.5//NONSGML v1.0//EN
CALSCALE:GREGORIAN
METHOD:PUBLISH
X-WR-CALNAME:St Margaret's Church Olton
X-ORIGINAL-URL:http://stmargarets.info
X-WR-CALDESC:Events for St Margaret's Church Olton
BEGIN:VEVENT
DTSTART;TZID="UTC+0":20161016T100000
DTEND;TZID="UTC+0":20161016T110000
DTSTAMP:20260420T044902
CREATED:20161017T201806
LAST-MODIFIED:20161017T201806
UID:5114-1476612000-1476615600@stmargarets.info
SUMMARY:Family Communion – 10:00 am
DESCRIPTION:Family Communion – 10:00 am
URL:http://stmargarets.info/event/family-communion-1000-am-11/
LOCATION:Parish Church of St Margaret\, St Margaret’s Road\, Olton\, West Midlands\, B927JS\, United Kingdom
END:VEVENT
END:VCALENDAR