BEGIN:VCALENDAR
VERSION:2.0
PRODID:-//St Margaret's Church Olton - ECPv4.0.5//NONSGML v1.0//EN
CALSCALE:GREGORIAN
METHOD:PUBLISH
X-WR-CALNAME:St Margaret's Church Olton
X-ORIGINAL-URL:http://stmargarets.info
X-WR-CALDESC:Events for St Margaret's Church Olton
BEGIN:VEVENT
DTSTART;TZID="UTC+0":20161030T100000
DTEND;TZID="UTC+0":20161030T110000
DTSTAMP:20260419T174506
CREATED:20161017T201925
LAST-MODIFIED:20161017T201925
UID:5116-1477821600-1477825200@stmargarets.info
SUMMARY:Family Communion – 10:00 am
DESCRIPTION:Family Communion – 10:00 am
URL:http://stmargarets.info/event/family-communion-1000-am-13/
LOCATION:Parish Church of St Margaret\, St Margaret’s Road\, Olton\, West Midlands\, B927JS\, United Kingdom
END:VEVENT
END:VCALENDAR