BEGIN:VCALENDAR
VERSION:2.0
PRODID:-//St Margaret's Church Olton - ECPv4.0.5//NONSGML v1.0//EN
CALSCALE:GREGORIAN
METHOD:PUBLISH
X-WR-CALNAME:St Margaret's Church Olton
X-ORIGINAL-URL:http://stmargarets.info
X-WR-CALDESC:Events for St Margaret's Church Olton
BEGIN:VEVENT
DTSTART;TZID="UTC+0":20170611T080000
DTEND;TZID="UTC+0":20170611T090000
DTSTAMP:20260422T154041
CREATED:20170525T231729
LAST-MODIFIED:20170526T000044
UID:5651-1497168000-1497171600@stmargarets.info
SUMMARY:Trinity Sunday - Holy Communion – 8:00am
DESCRIPTION:Trinity Sunday - Holy Communion – 8:00am
URL:http://stmargarets.info/event/first-sunday-after-pentecost-trinity-sunday-holy-communion-800am/
LOCATION:Parish Church of St Margaret\, St Margaret’s Road\, Olton\, West Midlands\, B927JS\, United Kingdom
END:VEVENT
END:VCALENDAR