BEGIN:VCALENDAR
VERSION:2.0
PRODID:-//St Margaret's Church Olton - ECPv4.0.5//NONSGML v1.0//EN
CALSCALE:GREGORIAN
METHOD:PUBLISH
X-WR-CALNAME:St Margaret's Church Olton
X-ORIGINAL-URL:http://stmargarets.info
X-WR-CALDESC:Events for St Margaret's Church Olton
BEGIN:VEVENT
DTSTART;TZID="UTC+0":20161207T103000
DTEND;TZID="UTC+0":20161207T113000
DTSTAMP:20260422T175835
CREATED:20161113T232836
LAST-MODIFIED:20161113T232836
UID:5206-1481106600-1481110200@stmargarets.info
SUMMARY:Holy Communion – 10.30am
DESCRIPTION:Holy Communion – 10.30am
URL:http://stmargarets.info/event/holy-communion-10-30am-11/
LOCATION:Parish Church of St Margaret\, St Margaret’s Road\, Olton\, West Midlands\, B927JS\, United Kingdom
END:VEVENT
END:VCALENDAR