BEGIN:VCALENDAR
VERSION:2.0
PRODID:-//St Margaret's Church Olton - ECPv4.0.5//NONSGML v1.0//EN
CALSCALE:GREGORIAN
METHOD:PUBLISH
X-WR-CALNAME:St Margaret's Church Olton
X-ORIGINAL-URL:http://stmargarets.info
X-WR-CALDESC:Events for St Margaret's Church Olton
BEGIN:VEVENT
DTSTART;TZID="UTC+0":20170503T103000
DTEND;TZID="UTC+0":20170503T233000
DTSTAMP:20260422T133718
CREATED:20170411T234820
LAST-MODIFIED:20170411T234820
UID:5616-1493807400-1493854200@stmargarets.info
SUMMARY:Holy Communion – 10.30am
DESCRIPTION:Holy Communion – 10.30am
URL:http://stmargarets.info/event/holy-communion-10-30am-32/
LOCATION:Parish Church of St Margaret\, St Margaret’s Road\, Olton\, West Midlands\, B927JS\, United Kingdom
END:VEVENT
END:VCALENDAR