BEGIN:VCALENDAR
VERSION:2.0
PRODID:-//St Margaret's Church Olton - ECPv4.0.5//NONSGML v1.0//EN
CALSCALE:GREGORIAN
METHOD:PUBLISH
X-WR-CALNAME:St Margaret's Church Olton
X-ORIGINAL-URL:http://stmargarets.info
X-WR-CALDESC:Events for St Margaret's Church Olton
BEGIN:VEVENT
DTSTART;TZID="UTC+0":20160518T103000
DTEND;TZID="UTC+0":20160518T113000
DTSTAMP:20260420T014209
CREATED:20160308T235038
LAST-MODIFIED:20160308T235038
UID:4871-1463567400-1463571000@stmargarets.info
SUMMARY:Holy Communion – 10:30 am
DESCRIPTION:Holy Communion – 10:30 am
URL:http://stmargarets.info/event/holy-communion-1030-am-11/
LOCATION:Parish Church of St Margaret\, St Margaret’s Road\, Olton\, West Midlands\, B927JS\, United Kingdom
END:VEVENT
END:VCALENDAR