BEGIN:VCALENDAR
VERSION:2.0
PRODID:-//St Margaret's Church Olton - ECPv4.0.5//NONSGML v1.0//EN
CALSCALE:GREGORIAN
METHOD:PUBLISH
X-WR-CALNAME:St Margaret's Church Olton
X-ORIGINAL-URL:http://stmargarets.info
X-WR-CALDESC:Events for St Margaret's Church Olton
BEGIN:VEVENT
DTSTART;TZID="UTC+0":20160406T103000
DTEND;TZID="UTC+0":20160406T233000
DTSTAMP:20260423T004516
CREATED:20160221T234322
LAST-MODIFIED:20160221T234322
UID:4814-1459938600-1459985400@stmargarets.info
SUMMARY:Holy Communion - 10:30 am
DESCRIPTION:Holy Communion - 10:30 am
URL:http://stmargarets.info/event/holy-communion-1030-am-6/
LOCATION:Parish Church of St Margaret\, St Margaret’s Road\, Olton\, West Midlands\, B927JS\, United Kingdom
END:VEVENT
END:VCALENDAR