BEGIN:VCALENDAR
VERSION:2.0
PRODID:-//St Margaret's Church Olton - ECPv4.0.5//NONSGML v1.0//EN
CALSCALE:GREGORIAN
METHOD:PUBLISH
X-WR-CALNAME:St Margaret's Church Olton
X-ORIGINAL-URL:http://stmargarets.info
X-WR-CALDESC:Events for St Margaret's Church Olton
BEGIN:VEVENT
DTSTART;TZID="UTC+0":20170115T183000
DTEND;TZID="UTC+0":20170115T193000
DTSTAMP:20260422T141052
CREATED:20161126T210644
LAST-MODIFIED:20170110T231826
UID:5269-1484505000-1484508600@stmargarets.info
SUMMARY:Evensong 6:30 pm
DESCRIPTION:Evensong 6:30 pm
URL:http://stmargarets.info/event/holy-communion-630-pm-3/
LOCATION:Parish Church of St Margaret\, St Margaret’s Road\, Olton\, West Midlands\, B927JS\, United Kingdom
END:VEVENT
END:VCALENDAR