BEGIN:VCALENDAR
VERSION:2.0
PRODID:-//St Margaret's Church Olton - ECPv4.0.5//NONSGML v1.0//EN
CALSCALE:GREGORIAN
METHOD:PUBLISH
X-WR-CALNAME:St Margaret's Church Olton
X-ORIGINAL-URL:http://stmargarets.info
X-WR-CALDESC:Events for St Margaret's Church Olton
BEGIN:VEVENT
DTSTART;TZID="UTC+0":20161030T183000
DTEND;TZID="UTC+0":20161030T193000
DTSTAMP:20260419T192801
CREATED:20161002T153042
LAST-MODIFIED:20161002T153042
UID:5092-1477852200-1477855800@stmargarets.info
SUMMARY:'In Memoriam' Service - 6.30PM
DESCRIPTION:'In Memoriam' Service - 6.30PM
URL:http://stmargarets.info/event/in-memoriam-service-6-30pm/
LOCATION:Parish Church of St Margaret\, St Margaret’s Road\, Olton\, West Midlands\, B927JS\, United Kingdom
CATEGORIES:Special Service
END:VEVENT
END:VCALENDAR