BEGIN:VCALENDAR
VERSION:2.0
PRODID:-//St Margaret's Church Olton - ECPv4.0.5//NONSGML v1.0//EN
CALSCALE:GREGORIAN
METHOD:PUBLISH
X-WR-CALNAME:St Margaret's Church Olton
X-ORIGINAL-URL:http://stmargarets.info
X-WR-CALDESC:Events for St Margaret's Church Olton
BEGIN:VEVENT
DTSTART;TZID="UTC+0":20161003T193000
DTEND;TZID="UTC+0":20161003T203000
DTSTAMP:20260420T105845
CREATED:20161002T151948
LAST-MODIFIED:20161002T151948
UID:5089-1475523000-1475526600@stmargarets.info
SUMMARY:Induction of Revd Dominic Wright
DESCRIPTION:Induction of Revd Dominic Wright\nThe Induction of our new Vicar the Revd Dominic Wright will take place on the 3rd October at 7.30 PM.
URL:http://stmargarets.info/event/induction-of-revd-dominic-wright/
LOCATION:Parish Church of St Margaret\, St Margaret’s Road\, Olton\, West Midlands\, B927JS\, United Kingdom
CATEGORIES:Special Service
END:VEVENT
END:VCALENDAR