BEGIN:VCALENDAR
VERSION:2.0
PRODID:-//St Margaret's Church Olton - ECPv4.0.5//NONSGML v1.0//EN
CALSCALE:GREGORIAN
METHOD:PUBLISH
X-WR-CALNAME:St Margaret's Church Olton
X-ORIGINAL-URL:http://stmargarets.info
X-WR-CALDESC:Events for St Margaret's Church Olton
BEGIN:VEVENT
DTSTART;VALUE=DATE:20161127
DTEND;VALUE=DATE:20161127
DTSTAMP:20260419T160437
CREATED:20161017
LAST-MODIFIED:20161017
UID:5139-1480204800-1480291199@stmargarets.info
SUMMARY:Junior Church Christmas Outing -WM Safari Park
DESCRIPTION:Junior Church Christmas Outing -WM Safari Park
URL:http://stmargarets.info/event/junior-church-christmas-outing-wm-safari-park/
LOCATION:Parish Church of St Margaret\, St Margaret’s Road\, Olton\, West Midlands\, B927JS\, United Kingdom
CATEGORIES:Church Trip
END:VEVENT
END:VCALENDAR