BEGIN:VCALENDAR
VERSION:2.0
PRODID:-//St Margaret's Church Olton - ECPv4.0.5//NONSGML v1.0//EN
CALSCALE:GREGORIAN
METHOD:PUBLISH
X-WR-CALNAME:St Margaret's Church Olton
X-ORIGINAL-URL:http://stmargarets.info
X-WR-CALDESC:Events for St Margaret's Church Olton
BEGIN:VEVENT
DTSTART;VALUE=DATE:20170401
DTEND;VALUE=DATE:20170401
DTSTAMP:20260422T152500
CREATED:20170126
LAST-MODIFIED:20170126
UID:5416-1491004800-1491091199@stmargarets.info
SUMMARY:Lent Lunch 2
DESCRIPTION:Lent Lunch 2\n\nDetails to follow...
URL:http://stmargarets.info/event/lent-lunch-2-2/
LOCATION:Parish Church of St Margaret\, St Margaret’s Road\, Olton\, West Midlands\, B927JS\, United Kingdom
CATEGORIES:Church Event
END:VEVENT
END:VCALENDAR