BEGIN:VCALENDAR
VERSION:2.0
PRODID:-//St Margaret's Church Olton - ECPv4.0.5//NONSGML v1.0//EN
CALSCALE:GREGORIAN
METHOD:PUBLISH
X-WR-CALNAME:St Margaret's Church Olton
X-ORIGINAL-URL:http://stmargarets.info
X-WR-CALDESC:Events for St Margaret's Church Olton
BEGIN:VEVENT
DTSTART;TZID="UTC+0":20170109T140000
DTEND;TZID="UTC+0":20170109T150000
DTSTAMP:20260422T191659
CREATED:20161126T203646
LAST-MODIFIED:20161126T203646
UID:5242-1483970400-1483974000@stmargarets.info
SUMMARY:Little Steps – Toddler Service 2:00 pm
DESCRIPTION:Little Steps – Toddler Service 2:00 pm
URL:http://stmargarets.info/event/little-steps-toddler-service-200-pm-28/
LOCATION:Parish Church of St Margaret\, St Margaret’s Road\, Olton\, West Midlands\, B927JS\, United Kingdom
END:VEVENT
END:VCALENDAR