BEGIN:VCALENDAR
VERSION:2.0
PRODID:-//St Margaret's Church Olton - ECPv4.0.5//NONSGML v1.0//EN
CALSCALE:GREGORIAN
METHOD:PUBLISH
X-WR-CALNAME:St Margaret's Church Olton
X-ORIGINAL-URL:http://stmargarets.info
X-WR-CALDESC:Events for St Margaret's Church Olton
BEGIN:VEVENT
DTSTART;TZID="UTC+0":20170529T140000
DTEND;TZID="UTC+0":20170529T150000
DTSTAMP:20260422T133319
CREATED:20170401T155605
LAST-MODIFIED:20170525T234400
UID:5609-1496066400-1496070000@stmargarets.info
SUMMARY:***No Little Steps – Half Term ***
DESCRIPTION:***No Little Steps – Half Term ***
URL:http://stmargarets.info/event/little-steps-toddler-service-200-pm-46/
LOCATION:Parish Church of St Margaret\, St Margaret’s Road\, Olton\, West Midlands\, B927JS\, United Kingdom
END:VEVENT
END:VCALENDAR