BEGIN:VCALENDAR
VERSION:2.0
PRODID:-//St Margaret's Church Olton - ECPv4.0.5//NONSGML v1.0//EN
CALSCALE:GREGORIAN
METHOD:PUBLISH
X-WR-CALNAME:St Margaret's Church Olton
X-ORIGINAL-URL:http://stmargarets.info
X-WR-CALDESC:Events for St Margaret's Church Olton
BEGIN:VEVENT
DTSTART;TZID="UTC+0":20160425T020000
DTEND;TZID="UTC+0":20160425T150000
DTSTAMP:20260419T174955
CREATED:20160308T234020
LAST-MODIFIED:20160308T234020
UID:4862-1461549600-1461596400@stmargarets.info
SUMMARY:Little Steps – Toddler Service 2:00 pm
DESCRIPTION:Little Steps – Toddler Service 2:00 pm
URL:http://stmargarets.info/event/little-steps-toddler-service-200-pm-6/
LOCATION:Parish Church of St Margaret\, St Margaret’s Road\, Olton\, West Midlands\, B927JS\, United Kingdom
END:VEVENT
END:VCALENDAR