BEGIN:VCALENDAR
VERSION:2.0
PRODID:-//St Margaret's Church Olton - ECPv4.0.5//NONSGML v1.0//EN
CALSCALE:GREGORIAN
METHOD:PUBLISH
X-WR-CALNAME:St Margaret's Church Olton
X-ORIGINAL-URL:http://stmargarets.info
X-WR-CALDESC:Events for St Margaret's Church Olton
BEGIN:VEVENT
DTSTART;TZID="UTC+0":20161117T193000
DTEND;TZID="UTC+0":20161117T220000
DTSTAMP:20260419T204002
CREATED:20160203T231839
LAST-MODIFIED:20160203T231839
UID:4708-1479411000-1479420000@stmargarets.info
SUMMARY:November Parochial Church Council (PCC) Meeting
DESCRIPTION:
URL:http://stmargarets.info/event/may-parochial-church-council-pcc-meeting-2/
LOCATION:Parish Church of St Margaret\, St Margaret’s Road\, Olton\, West Midlands\, B927JS\, United Kingdom
END:VEVENT
END:VCALENDAR