BEGIN:VCALENDAR
VERSION:2.0
PRODID:-//St Margaret's Church Olton - ECPv4.0.5//NONSGML v1.0//EN
CALSCALE:GREGORIAN
METHOD:PUBLISH
X-WR-CALNAME:St Margaret's Church Olton
X-ORIGINAL-URL:http://stmargarets.info
X-WR-CALDESC:Events for St Margaret's Church Olton
BEGIN:VEVENT
DTSTART;VALUE=DATE:20161024
DTEND;VALUE=DATE:20161024
DTSTAMP:20260419T162812
CREATED:20161002
LAST-MODIFIED:20161002
UID:5097-1477267200-1477353599@stmargarets.info
SUMMARY:** No Little Steps - Half Term **
DESCRIPTION:** No Little Steps - Half Term **
URL:http://stmargarets.info/event/no-little-steps-half-term/
END:VEVENT
END:VCALENDAR