BEGIN:VCALENDAR
VERSION:2.0
PRODID:-//St Margaret's Church Olton - ECPv4.0.5//NONSGML v1.0//EN
CALSCALE:GREGORIAN
METHOD:PUBLISH
X-WR-CALNAME:St Margaret's Church Olton
X-ORIGINAL-URL:http://stmargarets.info
X-WR-CALDESC:Events for St Margaret's Church Olton
BEGIN:VEVENT
DTSTART;TZID="UTC+0":20161020T193000
DTEND;TZID="UTC+0":20161020T220000
DTSTAMP:20260419T231215
CREATED:20160203T231738
LAST-MODIFIED:20160203T231738
UID:4707-1476991800-1477000800@stmargarets.info
SUMMARY:October Parochial Church Council (PCC) Meeting
DESCRIPTION:
URL:http://stmargarets.info/event/october-parochial-church-council-pcc-meeting/
LOCATION:Parish Church of St Margaret\, St Margaret’s Road\, Olton\, West Midlands\, B927JS\, United Kingdom
CATEGORIES:Church Meeting
END:VEVENT
END:VCALENDAR