BEGIN:VCALENDAR
VERSION:2.0
PRODID:-//St Margaret's Church Olton - ECPv4.0.5//NONSGML v1.0//EN
CALSCALE:GREGORIAN
METHOD:PUBLISH
X-WR-CALNAME:St Margaret's Church Olton
X-ORIGINAL-URL:http://stmargarets.info
X-WR-CALDESC:Events for St Margaret's Church Olton
BEGIN:VEVENT
DTSTART;TZID="UTC+0":20170402T080000
DTEND;TZID="UTC+0":20170402T090000
DTSTAMP:20260422T181822
CREATED:20170316T232128
LAST-MODIFIED:20170316T233254
UID:5552-1491120000-1491123600@stmargarets.info
SUMMARY:Passion Sunday – 5th Sunday of Lent - Holy Communion – 8.00AM
DESCRIPTION:Passion Sunday – Holy Communion – 8.00AM
URL:http://stmargarets.info/event/passion-sunday-holy-communion-8-00am/
LOCATION:Parish Church of St Margaret\, St Margaret’s Road\, Olton\, West Midlands\, B927JS\, United Kingdom
END:VEVENT
END:VCALENDAR