BEGIN:VCALENDAR
VERSION:2.0
PRODID:-//St Margaret's Church Olton - ECPv4.0.5//NONSGML v1.0//EN
CALSCALE:GREGORIAN
METHOD:PUBLISH
X-WR-CALNAME:St Margaret's Church Olton
X-ORIGINAL-URL:http://stmargarets.info
X-WR-CALDESC:Events for St Margaret's Church Olton
BEGIN:VEVENT
DTSTART;TZID="UTC+0":20160515T080000
DTEND;TZID="UTC+0":20160515T080000
DTSTAMP:20260420T074135
CREATED:20160404T210501
LAST-MODIFIED:20160404T210501
UID:4918-1463299200-1463299200@stmargarets.info
SUMMARY:Pentecost\, Whitsunday - Holy Communion 8:00 am
DESCRIPTION:Pentecost\, Whitsunday - Holy Communion 8:00 am
URL:http://stmargarets.info/event/pentecost-whitsunday-holy-communion-800-am/
LOCATION:Parish Church of St Margaret\, St Margaret’s Road\, Olton\, West Midlands\, B927JS\, United Kingdom
END:VEVENT
END:VCALENDAR