BEGIN:VCALENDAR
VERSION:2.0
PRODID:-//St Margaret's Church Olton - ECPv4.0.5//NONSGML v1.0//EN
CALSCALE:GREGORIAN
METHOD:PUBLISH
X-WR-CALNAME:St Margaret's Church Olton
X-ORIGINAL-URL:http://stmargarets.info
X-WR-CALDESC:Events for St Margaret's Church Olton
BEGIN:VEVENT
DTSTART;TZID="UTC+0":20161124T193000
DTEND;TZID="UTC+0":20161124T210000
DTSTAMP:20260419T131108
CREATED:20160221T224334
LAST-MODIFIED:20160221T224334
UID:4789-1480015800-1480021200@stmargarets.info
SUMMARY:Pre-Baptism session 7:30 pm
DESCRIPTION:Pre-Baptism session 7:30 pm
URL:http://stmargarets.info/event/pre-baptism-session-730-pm-7/
LOCATION:Parish Church of St Margaret\, St Margaret’s Road\, Olton\, West Midlands\, B927JS\, United Kingdom
CATEGORIES:Church Meeting
END:VEVENT
END:VCALENDAR