BEGIN:VCALENDAR
VERSION:2.0
PRODID:-//St Margaret's Church Olton - ECPv4.0.5//NONSGML v1.0//EN
CALSCALE:GREGORIAN
METHOD:PUBLISH
X-WR-CALNAME:St Margaret's Church Olton
X-ORIGINAL-URL:http://stmargarets.info
X-WR-CALDESC:Events for St Margaret's Church Olton
BEGIN:VEVENT
DTSTART;TZID="UTC+0":20160503T193000
DTEND;TZID="UTC+0":20160503T203000
DTSTAMP:20260421T004041
CREATED:20160426T223132
LAST-MODIFIED:20160426T223132
UID:4996-1462303800-1462307400@stmargarets.info
SUMMARY:Social & Fund Raising Committee
DESCRIPTION:Social & Fund Raising Committee
URL:http://stmargarets.info/event/social-fund-raising-committee/
LOCATION:Parish Church of St Margaret\, St Margaret’s Road\, Olton\, West Midlands\, B927JS\, United Kingdom
CATEGORIES:Church Meeting
END:VEVENT
END:VCALENDAR