BEGIN:VCALENDAR
VERSION:2.0
PRODID:-//St Margaret's Church Olton - ECPv4.0.5//NONSGML v1.0//EN
CALSCALE:GREGORIAN
METHOD:PUBLISH
X-WR-CALNAME:St Margaret's Church Olton
X-ORIGINAL-URL:http://stmargarets.info
X-WR-CALDESC:Events for St Margaret's Church Olton
BEGIN:VEVENT
DTSTART;TZID="UTC+0":20170610T150000
DTEND;TZID="UTC+0":20170610T173000
DTSTAMP:20260422T135726
CREATED:20170126T001702
LAST-MODIFIED:20170525T235246
UID:5413-1497106800-1497115800@stmargarets.info
SUMMARY:Harmonie Band
DESCRIPTION:Harmonie Band with tea and cakes\nSaturday 10th June 2017:-\nThe Harmonie Band are holding a Summer Afternoon Concert at St Margaret's Church at 3.00 p.m.\nPlease come along and enjoy the lovely music and the Teas\, Coffees and Cakes afterwards. There will be no charge. However\, any donations will be gladly received and put towards general church funds. For further information speak Tony or Cynthia.
URL:http://stmargarets.info/event/strawberry-tea-with-the-harmonie-band/
LOCATION:Parish Church of St Margaret\, St Margaret’s Road\, Olton\, West Midlands\, B927JS\, United Kingdom
CATEGORIES:Church Event
ATTACH;FMTTYPE=image/jpeg:http://stmargarets.info/wp-content/uploads/2016/11/halls.jpg
END:VEVENT
END:VCALENDAR