BEGIN:VCALENDAR
VERSION:2.0
PRODID:-//St Margaret's Church Olton - ECPv4.0.5//NONSGML v1.0//EN
CALSCALE:GREGORIAN
METHOD:PUBLISH
X-WR-CALNAME:St Margaret's Church Olton
X-ORIGINAL-URL:http://stmargarets.info
X-WR-CALDESC:Events for St Margaret's Church Olton
BEGIN:VEVENT
DTSTART;TZID="UTC+0":20160508T080000
DTEND;TZID="UTC+0":20160508T090000
DTSTAMP:20260420T170417
CREATED:20160404T210323
LAST-MODIFIED:20160404T210323
UID:4917-1462694400-1462698000@stmargarets.info
SUMMARY:Sunday after Ascension Day - Holy Communion 8:00 am
DESCRIPTION:Sunday after Ascension Day - Holy Communion 8:00 am
URL:http://stmargarets.info/event/sunday-after-ascension-day-holy-communion-800-am/
LOCATION:Parish Church of St Margaret\, St Margaret’s Road\, Olton\, West Midlands\, B927JS\, United Kingdom
END:VEVENT
END:VCALENDAR