BEGIN:VCALENDAR
VERSION:2.0
PRODID:-//St Margaret's Church Olton - ECPv4.0.5//NONSGML v1.0//EN
CALSCALE:GREGORIAN
METHOD:PUBLISH
X-WR-CALNAME:St Margaret's Church Olton
X-ORIGINAL-URL:http://stmargarets.info
X-WR-CALDESC:Events for St Margaret's Church Olton
BEGIN:VEVENT
DTSTART;TZID="UTC+0":20161204T080000
DTEND;TZID="UTC+0":20161204T090000
DTSTAMP:20260420T005740
CREATED:20161017T213334
LAST-MODIFIED:20161017T213334
UID:5158-1480838400-1480842000@stmargarets.info
SUMMARY:The Second Sunday of Advent – Holy Communion – 8.00AM
DESCRIPTION:The Second Sunday of Advent – Holy Communion – 8.00AM
URL:http://stmargarets.info/event/the-second-sunday-of-advent-holy-communion-8-00am/
LOCATION:Parish Church of St Margaret\, St Margaret’s Road\, Olton\, West Midlands\, B927JS\, United Kingdom
END:VEVENT
END:VCALENDAR