BEGIN:VCALENDAR
VERSION:2.0
PRODID:-//St Margaret's Church Olton - ECPv4.0.5//NONSGML v1.0//EN
CALSCALE:GREGORIAN
METHOD:PUBLISH
X-WR-CALNAME:St Margaret's Church Olton
X-ORIGINAL-URL:http://stmargarets.info
X-WR-CALDESC:Events for St Margaret's Church Olton
BEGIN:VEVENT
DTSTART;TZID="UTC+0":20160403T080000
DTEND;TZID="UTC+0":20160403T203000
DTSTAMP:20260423T064902
CREATED:20160203T233224
LAST-MODIFIED:20160413T233048
UID:4710-1459670400-1459715400@stmargarets.info
SUMMARY:The Second Sunday of Easter - Holy Communion 8:00 am
DESCRIPTION:The Second Sunday of Easter - Holy Communion 8:00 am
URL:http://stmargarets.info/event/the-second-sunday-of-easter-holy-communion-800-am/
LOCATION:Parish Church of St Margaret\, St Margaret’s Road\, Olton\, West Midlands\, B927JS\, United Kingdom
END:VEVENT
END:VCALENDAR