BEGIN:VCALENDAR
VERSION:2.0
PRODID:-//St Margaret's Church Olton - ECPv4.0.5//NONSGML v1.0//EN
CALSCALE:GREGORIAN
METHOD:PUBLISH
X-WR-CALNAME:St Margaret's Church Olton
X-ORIGINAL-URL:http://stmargarets.info
X-WR-CALDESC:Events for St Margaret's Church Olton
BEGIN:VEVENT
DTSTART;TZID="UTC+0":20161009T080000
DTEND;TZID="UTC+0":20161009T090000
DTSTAMP:20260420T092852
CREATED:20161002T155710
LAST-MODIFIED:20161002T161044
UID:5105-1476000000-1476003600@stmargarets.info
SUMMARY:The Twentieth Sunday after Trinity - Holy Communion - 8.00 AM
DESCRIPTION:The Twentieth Sunday after Trinity - Holy Communion - 8.00 AM
URL:http://stmargarets.info/event/the-twentieth-sunday-after-trinity-8-00-am/
LOCATION:Parish Church of St Margaret\, St Margaret’s Road\, Olton\, West Midlands\, B927JS\, United Kingdom
END:VEVENT
END:VCALENDAR