BEGIN:VCALENDAR
VERSION:2.0
PRODID:-//St Margaret's Church Olton - ECPv4.0.5//NONSGML v1.0//EN
CALSCALE:GREGORIAN
METHOD:PUBLISH
X-WR-CALNAME:St Margaret's Church Olton
X-ORIGINAL-URL:http://stmargarets.info
X-WR-CALDESC:Events for St Margaret's Church Olton
BEGIN:VEVENT
DTSTART;TZID="UTC+0":20161023T080000
DTEND;TZID="UTC+0":20161023T090000
DTSTAMP:20260419T212705
CREATED:20161017T201345
LAST-MODIFIED:20161024T175013
UID:5111-1477209600-1477213200@stmargarets.info
SUMMARY:The Last Sunday after Trinity – Holy Communion – 8.00AM
DESCRIPTION:The Last Sunday after Trinity – Holy Communion – 8.00AM
URL:http://stmargarets.info/event/the-twenty-second-sunday-after-trinity-holy-communion-8-00am/
LOCATION:Parish Church of St Margaret\, St Margaret’s Road\, Olton\, West Midlands\, B927JS\, United Kingdom
END:VEVENT
END:VCALENDAR