BEGIN:VCALENDAR
VERSION:2.0
PRODID:-//St Margaret's Church Olton - ECPv4.0.5//NONSGML v1.0//EN
CALSCALE:GREGORIAN
METHOD:PUBLISH
X-WR-CALNAME:St Margaret's Church Olton
X-ORIGINAL-URL:http://stmargarets.info
X-WR-CALDESC:Events for St Margaret's Church Olton
BEGIN:VEVENT
DTSTART;TZID="UTC+0":20160522T080000
DTEND;TZID="UTC+0":20160522T090000
DTSTAMP:20260419T225314
CREATED:20160404T210948
LAST-MODIFIED:20160404T211141
UID:4919-1463904000-1463907600@stmargarets.info
SUMMARY:Trinity Sunday\, First Sunday after Pentecost - Holy Communion 8:00 am
DESCRIPTION:Trinity Sunday\, First Sunday after Pentecost - Holy Communion 8:00 am
URL:http://stmargarets.info/event/trinity-sunday-first-sunday-after-pentecost-holy-communion-1000-am/
LOCATION:Parish Church of St Margaret\, St Margaret’s Road\, Olton\, West Midlands\, B927JS\, United Kingdom
END:VEVENT
END:VCALENDAR